BEGIN:VCALENDAR
VERSION:2.0
PRODID:-//InterActing - ECPv6.15.20//NONSGML v1.0//EN
CALSCALE:GREGORIAN
METHOD:PUBLISH
X-WR-CALNAME:InterActing
X-ORIGINAL-URL:https://interacting.nl
X-WR-CALDESC:Evenementen voor InterActing
REFRESH-INTERVAL;VALUE=DURATION:PT1H
X-Robots-Tag:noindex
X-PUBLISHED-TTL:PT1H
BEGIN:VTIMEZONE
TZID:Europe/Amsterdam
BEGIN:DAYLIGHT
TZOFFSETFROM:+0100
TZOFFSETTO:+0200
TZNAME:CEST
DTSTART:20250330T010000
END:DAYLIGHT
BEGIN:STANDARD
TZOFFSETFROM:+0200
TZOFFSETTO:+0100
TZNAME:CET
DTSTART:20251026T010000
END:STANDARD
BEGIN:DAYLIGHT
TZOFFSETFROM:+0100
TZOFFSETTO:+0200
TZNAME:CEST
DTSTART:20260329T010000
END:DAYLIGHT
BEGIN:STANDARD
TZOFFSETFROM:+0200
TZOFFSETTO:+0100
TZNAME:CET
DTSTART:20261025T010000
END:STANDARD
BEGIN:DAYLIGHT
TZOFFSETFROM:+0100
TZOFFSETTO:+0200
TZNAME:CEST
DTSTART:20270328T010000
END:DAYLIGHT
BEGIN:STANDARD
TZOFFSETFROM:+0200
TZOFFSETTO:+0100
TZNAME:CET
DTSTART:20271031T010000
END:STANDARD
END:VTIMEZONE
BEGIN:VEVENT
DTSTART;TZID=Europe/Amsterdam:20260810T000000
DTEND;TZID=Europe/Amsterdam:20260813T235959
DTSTAMP:20260422T035359
CREATED:20251215T091846Z
LAST-MODIFIED:20260421T101030Z
UID:2821-1786320000-1786665599@interacting.nl
SUMMARY:Zomerschool Amsterdam 2026
DESCRIPTION:Vier dagen improviseren\, stemacteren en een workshop van Daniel Kolf\n\n\n\n \n\n\n\n\n\nIn de laatste week van de zomervakantie organiseert InterActing in Amsterdam  \n\n\n\nvier dagen vol theater\, spel en ontmoeting voor jongeren van 12 tot 25 jaar  \n\n\n\nmet autisme. Geen ervaring vereist! \n\n\n\nGeen druk om te presteren\, wel veel ruimte om te proberen\, te lachen en  \n\n\n\nnieuwe vrienden te maken! De week eindigt met een eindpresentatie voor  \n\n\n\nouders\, familie en vrienden. \n\n\n\n \n\n\n\nWanneer en waar?\n\n\n\n10 tot en met 13 augustus 2026  in Amsterdam  \n\n\n\nBoom Chicago Theater (Rozengracht 117\, Amsterdam) \n\n\n\n\n\n\n\n\n\n\n\n\n\nHet programma\n\n\n\nMaandag 10 Augustus10:15-11:00u Inloop11:00-12:30u Kennismaking & Eerste improvisatie oefeningen12:30-13:00u Lunchpauze13:00-15:00u Improvisatietheater oefeningen & Afsluiting van de dag \n\n\n\n \n\n\n\nDinsdag 11 Augustus09:00-09:30u Aankomst Groep 1\, Studio Stemacteren09:30-13:00u Groep 1 Workshop stemacteren met Jurgen Theuns (o.a. bekend van de stem van Thomas de Trein)13:00-13:30u Gezamenlijke Lunch Groep 1 & 213:30-17:00u Groep 2 Workshop stemacteren met Jurgen Theuns (o.a. bekend van de stem van Thomas de Trein) \n\n\n\n \n\n\n\n \n\n\n\n\n\nWoensdag 12 Augustus10:45-11:00u Inloop11:00-12:30u Improvisatietheater oefeningen12:30-13:00u Lunchpauze13:00-15:00u Workshop ”Acteren is niet spelen\, maar zijn!” met Daniel Kolf  \n\n\n\nDonderdag 13 Augustus10:45-11:00u Inloop11:00-12:30u Voorbereiding eindpresentatie12:30-13:00u Lunchpauze Pizza’s13:00-13:45u Voorbereiding eindpresentatie13:45-14:00u Theaterdeuren gaan open voor ouders\, familie & vrienden14:00-14:45u Eindpresentatie14:45-15:00u Certificaten\, Cadeaus & Afscheid \n\n\n\nBegeleiding\n\n\n\nDe zomerschool worden begeleid door ervaren trainers die veel ervaring hebben met autisme. De gehele zomerschool zijn meerdere teamleden aanwezig. Zij observeren actief en helpen bij wat iemand nodig heeft.  \n\n\n\nGroepsindeling\n\n\n\nDe groepsindeling maken we op basis van intakeformulieren\, leeftijd\, cognitief niveau en ervaring.  \n\n\n\nKosten\n\n\n\n€245\,- voor de gehele zomerschool inclusief lunch!Geld mag geen struikelblok zijn om mee te doen. Er zijn verschillende mogelijkheden om de deelnamekosten te vergoeden\, bijvoorbeeld via een PGB of het Jeugdfonds voor Sport en Cultuur. \n\n\n\nVragen?\n\n\n\nHeb je vragen of wil je overleggen of deze cursus passend is?Mail ons gerust via info@interacting.nl \n\n\n\n  \n\n\n\n\n                \n\n                        Dit veld is verborgen bij het bekijken van het formulierTagMini-Cursus\n			\n					\n					Een deelnemer\n			\n			\n					\n					Twee deelnemers\n			\n			\n					\n					Drie deelnemers\n			Cursus\n			\n					\n					Een deelnemer\n			\n			\n					\n					Twee deelnemers\n			\n			\n					\n					Drie deelnemers\n			Proefles\n			\n					\n					Een deelnemer\n			\n			\n					\n					Twee deelnemers\n			\n			\n					\n					Drie deelnemers\n			Zomerschool\n			\n					\n					Een deelnemer\n			\n			\n					\n					Twee deelnemers\n			\n			\n					\n					Drie deelnemers\n			Test gratis\n			\n					\n					Eerste keuze\n			\n			\n					\n					Tweede keuze\n			\n			\n					\n					Derde keuze\n			Totaal\n							\n						Dit veld is verborgen bij het bekijken van het formulierEvent locationDit veld is verborgen bij het bekijken van het formulierCursusdatum(Vereist)Naam Contactpersoon(Vereist)\n                            \n                            \n                                                    \n                                                    Voornaam\n                                                \n                            \n                            \n                                                    \n                                                    Achternaam\n                                                \n                            \n                        E-mailadres Contactpersoon(Vereist)\n                            \n                        Telefoonnummer ContactpersoonNaam deelnemer(Vereist)\n                            \n                            \n                                                    \n                                                    Voornaam\n                                                \n                            \n                            \n                                                    \n                                                    Achternaam\n                                                \n                            \n                        Geboortedatum deelnemer(Vereist)\n                            \n                            DD slash MM slash JJJJ\n                        \n                        Naam deelnemer 2\n                            \n                            \n                                                    \n                                                    Voornaam\n                                                \n                            \n                            \n                                                    \n                                                    Achternaam\n                                                \n                            \n                        Geboortedatum deelnemer 2\n                            \n                            MM slash DD slash JJJJ\n                        \n                        Naam deelnemer 3\n                            \n                            \n                                                    \n                                                    Voornaam\n                                                \n                            \n                            \n                                                    \n                                                    Achternaam\n                                                \n                            \n                        Geboortedatum deelnemer 3\n                            \n                            MM slash DD slash JJJJ\n                        \n                        Adres    \n                    \n                         \n                                        \n                                        Straat en huistnummer\n                                    \n                                    \n                                    Stad\n                                 \n                                    \n                                    Postcode\n                                \n                    \n                Dit veld is verborgen bij het bekijken van het formulierWorkshop titleDit veld is verborgen bij het bekijken van het formulierURLDit veld is verborgen bij het bekijken van het formulierQuantity 1Dit veld is verborgen bij het bekijken van het formulierQuantity 2Dit veld is verborgen bij het bekijken van het formulierQuantity 3Dit veld is verborgen bij het bekijken van het formulierStartdatumBetaalmethode
URL:https://interacting.nl/event/zomerschool-amsterdam-2026/
LOCATION:Boom Chicago\, Rozengracht 117\, Amsterdam\, Noord-Holland\, 1016LV\, Netherlands
CATEGORIES:Zomerschool
ATTACH;FMTTYPE=image/png:https://interacting.nl/wp-content/uploads/2024/09/Website_Zomerschool.png
END:VEVENT
BEGIN:VEVENT
DTSTART;TZID=Europe/Amsterdam:20260817T000000
DTEND;TZID=Europe/Amsterdam:20260820T235959
DTSTAMP:20260422T035359
CREATED:20251215T092030Z
LAST-MODIFIED:20260421T094136Z
UID:2819-1786924800-1787270399@interacting.nl
SUMMARY:Zomerschool Eindhoven 2026
DESCRIPTION:Improviseren\, stemacteren\, sketches maken\, vloggen. Onze InterActing Zomerschool is de leukste week van de vakantie voor jongeren met autisme!\nBen je tussen 12 en 25 en hou je van theater\, acteren\, vloggen\, verhalen vertellen en samen spelen? Dan is dit een te gekke week waar je bij wilt zijn! We bieden in de laatste week van de zomervakantie 4 dagen lang een geweldig programma vol creatieve activiteiten. \nDe zomerschool wordt gehouden van:17 tot en met 20 augustus 2026Locatie:  Dynamo Eindhoven (Catharinaplein 21\, 5611 DE Eindhoven) \nVoorbeeld van een programma (het programma wordt nog concreet gemaakt voor 2026): \nMaandag 17 Augustus10:15-11:00u Inloop11:00-12:30u Kennismaking & Eerste improvisatie oefeningen12:30-13:00u Lunchpauze13:00-15:00u Improvisatietheater oefeningen & Afsluiting van de dag \nDinsdag 18 Augustus10:45–11:00u Inloop11:00-12:30u Stemacteren12:30-13:00u Lunchpauze13:00-15:00u Stemacteren & Afsluiting van de dag \nWoensdag 19 Augustus10:45-11:00u Inloop11:00-12:30u Improvisatietheater oefeningen12:30-13:00u Lunchpauze13:00-15:00u Vloggen & Video’s maken met een bekende influencer \nDonderdag 20 Augustus10:45-11:00u Inloop11:00-12:30u Voorbereiding eindpresentatie12:30-13:00u Lunchpauze Pizza’s13:00-13:45u Voorbereiding eindpresentatie13:45-14:00u Theaterdeuren gaan open voor ouders\, familie & vrienden14:00-14:45u Eindpresentatie14:45-15:00u Certificaten\, Cadeaus & Afscheid \nVragen over de zomerweek kan via info@interacting.nl \n\n                \n\n                        \n                             \n                        \n                        Dit veld is verborgen bij het bekijken van het formulierTagMini-Cursus\n			\n					\n					Een deelnemer\n			\n			\n					\n					Twee deelnemers\n			\n			\n					\n					Drie deelnemers\n			Cursus\n			\n					\n					Een deelnemer\n			\n			\n					\n					Twee deelnemers\n			\n			\n					\n					Drie deelnemers\n			Proefles\n			\n					\n					Een deelnemer\n			\n			\n					\n					Twee deelnemers\n			\n			\n					\n					Drie deelnemers\n			Zomerschool\n			\n					\n					Een deelnemer\n			\n			\n					\n					Twee deelnemers\n			\n			\n					\n					Drie deelnemers\n			Test gratis\n			\n					\n					Eerste keuze\n			\n			\n					\n					Tweede keuze\n			\n			\n					\n					Derde keuze\n			Totaal\n							\n						Dit veld is verborgen bij het bekijken van het formulierEvent locationDit veld is verborgen bij het bekijken van het formulierCursusdatum(Vereist)Naam Contactpersoon(Vereist)\n                            \n                            \n                                                    \n                                                    Voornaam\n                                                \n                            \n                            \n                                                    \n                                                    Achternaam\n                                                \n                            \n                        E-mailadres Contactpersoon(Vereist)\n                            \n                        Telefoonnummer ContactpersoonNaam deelnemer(Vereist)\n                            \n                            \n                                                    \n                                                    Voornaam\n                                                \n                            \n                            \n                                                    \n                                                    Achternaam\n                                                \n                            \n                        Geboortedatum deelnemer(Vereist)\n                            \n                            DD slash MM slash JJJJ\n                        \n                        Naam deelnemer 2\n                            \n                            \n                                                    \n                                                    Voornaam\n                                                \n                            \n                            \n                                                    \n                                                    Achternaam\n                                                \n                            \n                        Geboortedatum deelnemer 2\n                            \n                            MM slash DD slash JJJJ\n                        \n                        Naam deelnemer 3\n                            \n                            \n                                                    \n                                                    Voornaam\n                                                \n                            \n                            \n                                                    \n                                                    Achternaam\n                                                \n                            \n                        Geboortedatum deelnemer 3\n                            \n                            MM slash DD slash JJJJ\n                        \n                        Adres    \n                    \n                         \n                                        \n                                        Straat en huistnummer\n                                    \n                                    \n                                    Stad\n                                 \n                                    \n                                    Postcode\n                                \n                    \n                Dit veld is verborgen bij het bekijken van het formulierWorkshop titleDit veld is verborgen bij het bekijken van het formulierURLDit veld is verborgen bij het bekijken van het formulierQuantity 1Dit veld is verborgen bij het bekijken van het formulierQuantity 2Dit veld is verborgen bij het bekijken van het formulierQuantity 3Dit veld is verborgen bij het bekijken van het formulierStartdatumBetaalmethode
URL:https://interacting.nl/event/zomerschool-eindhoven-2025/
LOCATION:Dynamo Eindhoven\, Catharinaplein 21\, Eindhoven\, 5611DE\, Netherlands
CATEGORIES:Zomerschool
ATTACH;FMTTYPE=image/png:https://interacting.nl/wp-content/uploads/2024/09/Website_Zomerschool.png
ORGANIZER;CN="InterActing":MAILTO:info@interacting.nl
END:VEVENT
BEGIN:VEVENT
DTSTART;TZID=Europe/Amsterdam:20260824T000000
DTEND;TZID=Europe/Amsterdam:20260827T235959
DTSTAMP:20260422T035359
CREATED:20251215T091620Z
LAST-MODIFIED:20260421T100932Z
UID:2823-1787529600-1787875199@interacting.nl
SUMMARY:Zomerschool Den Haag 2026
DESCRIPTION:Vier dagen improviseren\, stemacteren en een workshop van Daniel Kolf\n\n\n\n \n\n\n\n\n\nIn de laatste week van de zomervakantie organiseert InterActing in Den Haag \n\n\n\nvier dagen vol theater\, spel en ontmoeting voor jongeren van 12 tot 25 jaar  \n\n\n\nmet autisme. Geen ervaring vereist! \n\n\n\nGeen druk om te presteren\, wel veel ruimte om te proberen\, te lachen en  \n\n\n\nnieuwe vrienden te maken! De week eindigt met een eindpresentatie voor ouders\, familie en vrienden.  \n\n\n\nWaar en wanneer?\n\n\n\n24 tot en met 27 augustus\, Rabarber theaterBilderdijkstraat 35\, Den Haag. \n\n\n\n\n\n\n\n\n\n\n\n \n\n\n\nHet programma\n\n\n\n \n\n\n\nMaandag 24 Augustus10:15-11:00u Inloop11:00-12:30u Kennismaking & Eerste improvisatie oefeningen12:30-13:00u Lunchpauze13:00-15:00u Improvisatietheater oefeningen & Afsluiting van de dag \n\n\n\nDinsdag 25 Augustus10:45-11:00u Inloop11:00-12:30u Improvisatietheater oefeningen12:30-13:00u Lunchpauze13:00-15:00u Workshop ”Acteren is niet spelen\, maar zijn!” met Daniel Kolf  \n\n\n\nWoensdag 26 Augustus10:45-11:00u Aankomst Studio Stemacteren11:00-12:30u Workshop Groep 1 stemacteren Jurgen Theuns (o.a. bekend van de stem van Thomas de Trein)12:30-13:00u Lunch13:00-15:00u Workshop Groep 2 stemacteren Jurgen Theuns (o.a. bekend van de stem van Thomas de Trein) \n\n\n\nDonderdag 27 Augustus10:45-11:00u Inloop11:00-12:30u Voorbereiding eindpresentatie12:30-13:00u Lunchpauze Pizza’s13:00-13:45u Voorbereiding eindpresentatie13:45-14:00u Theaterdeuren gaan open voor ouders\, familie & vrienden14:00-14:45u Eindpresentatie14:45-15:00u Certificaten\, Cadeaus & Afscheid \n\n\n\nBegeleiding\n\n\n\nDe zomerschool worden begeleid door ervaren trainers die bekend zijn met autisme. De gehele zomerschool zijn meerdere teamleden aanwezig. Zij observeren actief en helpen bij wat iemand nodig heeft.  \n\n\n\nGroepsindeling\n\n\n\nDe groepsindeling maken we op basis van intakeformulieren\, leeftijd\, cognitief niveau en ervaring.  \n\n\n\nKosten\n\n\n\n€245\,- voor de gehele zomerschool inclusief lunch!Geld mag geen struikelblok zijn om mee te doen. Er zijn verschillende mogelijkheden om de deelnamekosten te vergoeden\, bijvoorbeeld via een PGB of het Jeugdfonds voor Sport en Cultuur. \n\n\n\nVragen?\n\n\n\nHeb je vragen of wil je overleggen of deze cursus passend is?Mail ons gerust via info@interacting.nl \n\n\n\n \n\n\n\n                \n\n                        Dit veld is verborgen bij het bekijken van het formulierTagMini-Cursus\n			\n					\n					Een deelnemer\n			\n			\n					\n					Twee deelnemers\n			\n			\n					\n					Drie deelnemers\n			Cursus\n			\n					\n					Een deelnemer\n			\n			\n					\n					Twee deelnemers\n			\n			\n					\n					Drie deelnemers\n			Proefles\n			\n					\n					Een deelnemer\n			\n			\n					\n					Twee deelnemers\n			\n			\n					\n					Drie deelnemers\n			Zomerschool\n			\n					\n					Een deelnemer\n			\n			\n					\n					Twee deelnemers\n			\n			\n					\n					Drie deelnemers\n			Test gratis\n			\n					\n					Eerste keuze\n			\n			\n					\n					Tweede keuze\n			\n			\n					\n					Derde keuze\n			Totaal\n							\n						Dit veld is verborgen bij het bekijken van het formulierEvent locationDit veld is verborgen bij het bekijken van het formulierCursusdatum(Vereist)Naam Contactpersoon(Vereist)\n                            \n                            \n                                                    \n                                                    Voornaam\n                                                \n                            \n                            \n                                                    \n                                                    Achternaam\n                                                \n                            \n                        E-mailadres Contactpersoon(Vereist)\n                            \n                        Telefoonnummer ContactpersoonNaam deelnemer(Vereist)\n                            \n                            \n                                                    \n                                                    Voornaam\n                                                \n                            \n                            \n                                                    \n                                                    Achternaam\n                                                \n                            \n                        Geboortedatum deelnemer(Vereist)\n                            \n                            DD slash MM slash JJJJ\n                        \n                        Naam deelnemer 2\n                            \n                            \n                                                    \n                                                    Voornaam\n                                                \n                            \n                            \n                                                    \n                                                    Achternaam\n                                                \n                            \n                        Geboortedatum deelnemer 2\n                            \n                            MM slash DD slash JJJJ\n                        \n                        Naam deelnemer 3\n                            \n                            \n                                                    \n                                                    Voornaam\n                                                \n                            \n                            \n                                                    \n                                                    Achternaam\n                                                \n                            \n                        Geboortedatum deelnemer 3\n                            \n                            MM slash DD slash JJJJ\n                        \n                        Adres    \n                    \n                         \n                                        \n                                        Straat en huistnummer\n                                    \n                                    \n                                    Stad\n                                 \n                                    \n                                    Postcode\n                                \n                    \n                Dit veld is verborgen bij het bekijken van het formulierWorkshop titleDit veld is verborgen bij het bekijken van het formulierURLDit veld is verborgen bij het bekijken van het formulierQuantity 1Dit veld is verborgen bij het bekijken van het formulierQuantity 2Dit veld is verborgen bij het bekijken van het formulierQuantity 3Dit veld is verborgen bij het bekijken van het formulierStartdatumBetaalmethode
URL:https://interacting.nl/event/zomerschool-den-haag-2026/
LOCATION:Rabarber Theater\, Bilderdijkstraat 35\, Den Haag\, ZH\, 2513CM\, Netherlands
CATEGORIES:Zomerschool
ATTACH;FMTTYPE=image/png:https://interacting.nl/wp-content/uploads/2024/09/Website_Zomerschool.png
END:VEVENT
END:VCALENDAR